BEGIN:VCALENDAR
VERSION:2.0
PRODID:-//Plone.org//NONSGML plone.app.event//EN
X-WR-TIMEZONE:Europe/Berlin
BEGIN:VEVENT
SUMMARY:CMIP Community Workshop 2026
DTSTART;VALUE=DATE:20260309
DTEND;VALUE=DATE:20260314
DTSTAMP:20260422T104105Z
UID:978e40549271465993f79c311dbe17e1@project_zeoclients
CATEGORIES:CMIP
CONTACT:CMIP IPO\, CMIP-IPO@esa.int\, https://cmip2026.org
CREATED:20250326T111221Z
DESCRIPTION:The CMIP Community Workshop 2026 will bring together a growing
 \, and increasingly diverse\, community of Earth system scientists\, partn
 ers\, and stakeholders.
LAST-MODIFIED:20260119T141114Z
LOCATION:Kyoto\, Japan
URL:https://www.wcrp-esmo.org/calendar/cmip-community-workshop-2026
END:VEVENT
END:VCALENDAR
